Workbook

Sheet Справка о ТСМ
A1: СПРАВКА О ПРОХОЖДЕНИИ ТУРИСТСКОГО СПОРТИВНОГО МАРШРУТА
A2: Спортивная дисциплина | E2: средство передвижения (для дисциплины "маршрут-НСП (1-6 категория)")
A3: Категория сложности маршрута заявленная | D3: элементы более высокой к.с. (при наличии)
A4: Категория сложности маршрута фактическая (зачтенная МКК) | D4: элементы более высокой к.с. (при наличии)
A5: Номер маршрутной книжки
A6: Регион, который представляет группа на соревнованиях
A7: Город (для региональных соренований)
A8: Название организации, проводившей маршрут (турклуб, спортклуб, учебное заведение и др.) (для городских соревнований)
A9: Список всех участников маршрута: первым руководитель, далее по алфавиту Ф.И.О. участников вышедших на старт маршрута В примечаниях отмечаем тех, кто сошёл с маршрута | B9: № | C9: Фамилия | D9: Имя | E9: Отчество | F9: Дата рождения | G9: Пол | H9: Разряд / Звание | I9: Примечание
B10: 1
B11: 2
B12: 3
B13: 4
B14: 5
B15: 6
B16: 7
B17: 8
B18: 9
B19: 10
B20: 11
B21: 12
... B36: 27
A37: Фамилия Имя Отчество официального представителя (руководителя) группы (кто имеет право подавать от имени группы заявления и протесты в ГСК)
A38: Адрес электронной почты (email) представителя (руководителя)
A39: Телефон представителя (руководителя) группы (номер вводится без +7 и без 8, без других символов)
A40: Фамилия Имя Отчество получателя бандероли (если потребуется выслать призы, то кто их получит на почте)
A41: Домашний адрес получателя бандероли на почте (индекс, регион, город, улица, дом, квартира)
A43: Туристское название района проведения маршрута
A44: Подробная нитка заявленного маршрута с указанием общепринятых характеристик локальных препятствий (к.т., высота, первопрохождение и др.)
A45: Подробная фактическая нитка пройденного маршрута с указанием общепринятых характеристик локальных препятствий (к.т., высота, первопрохождение и др.)
A46: Сроки проведения маршрута в формате: дд.мм.гггг - дд.мм.гггг, продолжительность активной части в днях и протяжённость зачётной части маршрута в километрах | B46: Дата выхода на маршрут | D46: Дата завершения маршрута | F46: Длительность, дни | H46: Протяжённость, км
F47: =IFERROR(IF(D47-B47<>0,D47-B47+1,""),"Задайте даты")
A48: Название МКК и код (с печати), оформившей допуск группы на маршрут
A49: Фамилия Имя Отчество члена МКК, рассмотревшего и подписавшего тур.опыт участников группы, судейская категория при наличии (СС3К-ССВК)
A50: Члены МКК, выпустившие на маршрут
A51: Название МКК и код (с печати), рассмотревшей и утвердившей отчет о маршруте
A52: Члены МКК, рассмотревшие и утвердившие отчет о маршруте
A53: Наличие элементов первопрохождений на маршруте (да/нет, если да, то какие)
A54: Изменение пофамильного относительно поданной Предварительной Заявке или количественного состава участников (да/нет, если да, то кто именно)
A55: Прохождение не заявленных участков маршрута (да/нет, если да, то какие)
...

Sheet протокол_допуска
A2: Группа | B2: Регион | C2: Представитель | D2: к.с. заявл. | E2: к.с. МКК | F2: Размер группы | G2: М | H2: Ж | I2: <18 | J2: 18-21 | K2: 22-25 | L2: 26-40 | M2: >40 | N2: МСМК | O2: МС | P2: КМС | Q2: 1 | R2: 2 | S2: 3 | T2: 1ю | U2: 2ю | V2: 3ю | W2: б/р
A3: =IF('Справка о ТСМ'!C10 ="","",CONCATENATE('Справка о ТСМ'!$C$10," ",LEFT('Справка о ТСМ'!$D$10),".",LEFT('Справка о ТСМ'!$E$10),".")) | B3: ='Справка о ТСМ'!$B$6 -> 0 | C3: =IF('Справка о ТСМ'!$B$37="",A3,'Справка о ТСМ'!$B$37) | D3: ='Справка о ТСМ'!B3&IF('Справка о ТСМ'!F3<>"",CONCATENATE(" с эл. ",'Справка о ТСМ'!F3),"") | E3: ='Справка о ТСМ'!B4&IF('Справка о ТСМ'!F4<>"",CONCATENATE(" с эл. ",'Справка о ТСМ'!F4),"") | F3: =COUNTA('Справка о ТСМ'!$C$10:$C$36) -> 0 | G3: =COUNTIF('Справка о ТСМ'!$G$10:$G$36,"М") -> 0 | H3: =COUNTIF('Справка о ТСМ'!$G$10:$G$36,"Ж") -> 0 | I3: =COUNTIF('Справка о ТСМ'!$F$10:$F$36,">="&TODAY()-365*18) -> 0 | J3: =COUNTIFS('Справка о ТСМ'!$F$10:$F$36,">="&TODAY()-365*21,'Справка о ТСМ'!$F$10:$F$36,"<"&TODAY()-365*18) -> 0 | K3: =COUNTIFS('Справка о ТСМ'!$F$10:$F$36,">="&TODAY()-365*25,'Справка о ТСМ'!$F$10:$F$36,"<"&TODAY()-365*21) -> 0 | L3: =COUNTIFS('Справка о ТСМ'!$F$10:$F$36,">="&TODAY()-365*40,'Справка о ТСМ'!$F$10:$F$36,"<"&TODAY()-365*25) -> 0 | M3: =COUNTIF('Справка о ТСМ'!$F$10:$F$36,"<"&TODAY()-365*40) -> 0 | N3: =COUNTIF('Справка о ТСМ'!$H$10:$H$36,"МСМК") -> 0 | O3: =COUNTIF('Справка о ТСМ'!$H$10:$H$36,"МС") -> 0 | P3: =COUNTIF('Справка о ТСМ'!$H$10:$H$36,"КМС") -> 0 | Q3: =COUNTIF('Справка о ТСМ'!$H$10:$H$36,"1") -> 0 | R3: =COUNTIF('Справка о ТСМ'!$H$10:$H$36,"2") -> 0 | S3: =COUNTIF('Справка о ТСМ'!$H$10:$H$36,"3") -> 0 | T3: =COUNTIF('Справка о ТСМ'!$H$10:$H$36,"1ю") -> 0 | U3: =COUNTIF('Справка о ТСМ'!$H$10:$H$36,"2ю") -> 0 | V3: =COUNTIF('Справка о ТСМ'!$H$10:$H$36,"3ю") -> 0 | W3: =F3-SUM(N3:V3) -> 0
I4: =COUNTIF(B5:B32,">="&YEAR(TODAY())-18) -> 0 | J4: =COUNTIFS(B5:B32,">="&YEAR(TODAY())-21,B5:B32,"<"&YEAR(TODAY())-17) -> 0 | K4: =COUNTIFS(B5:B32,">="&YEAR(TODAY())-25,B5:B32,"<"&YEAR(TODAY())-21) -> 0 | L4: =COUNTIFS(B5:B32,">="&YEAR(TODAY())-40,B5:B32,"<"&YEAR(TODAY())-25) -> 0 | M4: =COUNTIF(B5:B32,"<"&YEAR(TODAY())-40) -> 1 | N4: по году рождения
A5: {='Справка о ТСМ'!B9:B36} -> № | B5: Год рождения
B6: {=IF(YEAR('Справка о ТСМ'!F10:F35) = 1899,"",YEAR('Справка о ТСМ'!F10:F35))} -> 1900 | C6: Состав с полными ФИО | J6: Сокращённый состав
C7: =CONCATENATE(C9,C10,C11,C12,C13,C14,C15,C16,C17,C18,C19,C20,C21,C22,C23,C24,C25,C26,C27,C28,C29,C30,C31,C32,C33,C34,C35,C36) | J7: =CONCATENATE(F9,F10,F11,F12,F13,F14,F15,F16,F17,F18,F19,F20,F21,F22,F23,F24,F25,F26,F27,F28,F29,F30,F31,F32,F33,F34,F35,F36)
C8: Фамилия Имя Отчество | F8: Фамилия И.О.
C9: {='Справка о ТСМ'!C10:C36 & " " & 'Справка о ТСМ'!D10:D36 & IF('Справка о ТСМ'!E10:E36<>""," ","") & 'Справка о ТСМ'!E10:E36 & IF('Справка о ТСМ'!C11:C37<>"",", ","")} | F9: {='Справка о ТСМ'!C10:C36 & CHAR(160) & MID('Справка о ТСМ'!D10:D36,1,1) & IF('Справка о ТСМ'!E10:E36<>"",".","") & MID('Справка о ТСМ'!E10:E36,1,1) & IF('Справка о ТСМ'!C11:C37<>"","., ","")}

Sheet данные для списков
A1: маршрут - пешеходный (1-6 категория) | B1: велосипед | C1: Код | D1: Наименование
A2: маршрут - лыжный (1-6 категория) | B2: автомото | C2: 77 | D2: г. Москва
A3: маршрут - горный (1-6 категория) | B3: конный | C3: 78 | D3: г. Санкт-Петербург
A4: маршрут - водный (1-6 категория) | C4: 92 | D4: г. Севастополь
A5: маршрут - на средствах передвижения (1-6 категория) | C5: 22 | D5: Алтайский край
A6: маршрут - парусный (1-6 категория) | C6: 28 | D6: Амурская область
A7: маршрут - спелео (1-6 категория) | C7: 29 | D7: Архангельская область
A8: маршрут - комбинированный (1-6 категория) | C8: 30 | D8: Астраханская область
C9: 31 | D9: Белгородская область
C10: 32 | D10: Брянская область
C11: 33 | D11: Владимирская область
C12: 34 | D12: Волгоградская область
C13: 35 | D13: Вологодская область
C14: 36 | D14: Воронежская область
C15: 79 | D15: Еврейская автономная область
C16: 75 | D16: Забайкальский край
C17: 37 | D17: Ивановская область
C18: 99 | D18: Иные территории, включая город и космодром Байконур
C19: 38 | D19: Иркутская область
C20: 7 | D20: Кабардино-Балкарская Республика
... C87: 76 | D87: Ярославская область
